BEGIN:VCALENDAR
VERSION:2.0
PRODID:-//elcarmenpozuelo.es - ECPv6.15.20//NONSGML v1.0//EN
CALSCALE:GREGORIAN
METHOD:PUBLISH
X-WR-CALNAME:elcarmenpozuelo.es
X-ORIGINAL-URL:https://elcarmenpozuelo.es
X-WR-CALDESC:Eventos para elcarmenpozuelo.es
REFRESH-INTERVAL;VALUE=DURATION:PT1H
X-Robots-Tag:noindex
X-PUBLISHED-TTL:PT1H
BEGIN:VTIMEZONE
TZID:UTC
BEGIN:STANDARD
TZOFFSETFROM:+0000
TZOFFSETTO:+0000
TZNAME:UTC
DTSTART:20250101T000000
END:STANDARD
END:VTIMEZONE
BEGIN:VEVENT
DTSTART;TZID=UTC:20260618T100000
DTEND;TZID=UTC:20260618T110000
DTSTAMP:20260419T141003
CREATED:20251009T110416Z
LAST-MODIFIED:20251009T110416Z
UID:19930-1781776800-1781780400@elcarmenpozuelo.es
SUMMARY:Retiro espiritual
DESCRIPTION:
URL:https://elcarmenpozuelo.es/evento/retiro-espiritual-9/
LOCATION:Parroquia Nuestra Señora del Carmen\, Calle San Antonio\, 2\, Pozuelo de Alarcón (Madrid)\, Madrid\, 28224\, Spain
END:VEVENT
BEGIN:VEVENT
DTSTART;TZID=UTC:20260620T170000
DTEND;TZID=UTC:20260620T190000
DTSTAMP:20260419T141003
CREATED:20251009T154650Z
LAST-MODIFIED:20251009T154650Z
UID:19985-1781974800-1781982000@elcarmenpozuelo.es
SUMMARY:Proyecto de Amor Conyugal
DESCRIPTION:
URL:https://elcarmenpozuelo.es/evento/proyecto-de-amor-conyugal-7/
LOCATION:Santa Teresa\, Calle Santa Teresa\, Pozuelo de Alarcón\, Madrid\, 28224\, Spain
END:VEVENT
BEGIN:VEVENT
DTSTART;TZID=UTC:20260620T200000
DTEND;TZID=UTC:20260620T213000
DTSTAMP:20260419T141003
CREATED:20251022T095349Z
LAST-MODIFIED:20251022T095349Z
UID:20069-1781985600-1781991000@elcarmenpozuelo.es
SUMMARY:Oración por las almas del Purgatorio
DESCRIPTION:
URL:https://elcarmenpozuelo.es/evento/oracion-por-las-almas-del-purgatorio-8/
LOCATION:Santa Teresa\, Calle Santa Teresa\, Pozuelo de Alarcón\, Madrid\, 28224\, Spain
END:VEVENT
BEGIN:VEVENT
DTSTART;TZID=UTC:20260626T200000
DTEND;TZID=UTC:20260626T220000
DTSTAMP:20260419T141003
CREATED:20251009T115455Z
LAST-MODIFIED:20251009T115455Z
UID:19957-1782504000-1782511200@elcarmenpozuelo.es
SUMMARY:Gin tonic con Fe
DESCRIPTION:
URL:https://elcarmenpozuelo.es/evento/gin-tonic-con-fe-3/
LOCATION:Santa Teresa\, Calle Santa Teresa\, Pozuelo de Alarcón\, Madrid\, 28224\, Spain
END:VEVENT
BEGIN:VEVENT
DTSTART;TZID=UTC:20260627T200000
DTEND;TZID=UTC:20260627T210000
DTSTAMP:20260419T141003
CREATED:20251009T162903Z
LAST-MODIFIED:20251009T162903Z
UID:20014-1782590400-1782594000@elcarmenpozuelo.es
SUMMARY:Encontrados
DESCRIPTION:
URL:https://elcarmenpozuelo.es/evento/encontrados-4/
LOCATION:Santa Teresa\, Calle Santa Teresa\, Pozuelo de Alarcón\, Madrid\, 28224\, Spain
END:VEVENT
BEGIN:VEVENT
DTSTART;TZID=UTC:20260711T170000
DTEND;TZID=UTC:20260711T200000
DTSTAMP:20260419T141003
CREATED:20251009T154740Z
LAST-MODIFIED:20251009T154740Z
UID:19987-1783789200-1783800000@elcarmenpozuelo.es
SUMMARY:Proyecto de Amor Conyugal
DESCRIPTION:
URL:https://elcarmenpozuelo.es/evento/proyecto-de-amor-conyugal-8/
LOCATION:Santa Teresa\, Calle Santa Teresa\, Pozuelo de Alarcón\, Madrid\, 28224\, Spain
END:VEVENT
END:VCALENDAR